BEGIN:VCALENDAR
VERSION:2.0
PRODID:-//Branchenprofi Sport - ECPv6.0.0.1//NONSGML v1.0//EN
CALSCALE:GREGORIAN
METHOD:PUBLISH
X-ORIGINAL-URL:https://branchenprofi-sport.de
X-WR-CALDESC:Events for Branchenprofi Sport
REFRESH-INTERVAL;VALUE=DURATION:PT1H
X-Robots-Tag:noindex
X-PUBLISHED-TTL:PT1H
BEGIN:VTIMEZONE
TZID:Europe/Berlin
BEGIN:DAYLIGHT
TZOFFSETFROM:+0100
TZOFFSETTO:+0200
TZNAME:CEST
DTSTART:20250330T010000
END:DAYLIGHT
BEGIN:STANDARD
TZOFFSETFROM:+0200
TZOFFSETTO:+0100
TZNAME:CET
DTSTART:20251026T010000
END:STANDARD
END:VTIMEZONE
BEGIN:VEVENT
DTSTART;VALUE=DATE:20250803
DTEND;VALUE=DATE:20250804
DTSTAMP:20260425T215511
CREATED:20250721T082016Z
LAST-MODIFIED:20250721T084235Z
UID:6284-1754179200-1754265599@branchenprofi-sport.de
SUMMARY:SOC Orderstart im MOC
DESCRIPTION:SOC Orderstart 3. August 2025 für F/S 2026 im MOC Ordercenter in München \nwww.moc-ordercenter.de \n 
URL:https://branchenprofi-sport.de/event/soc-orderstart-im-moc/
ATTACH;FMTTYPE=image/jpeg:https://branchenprofi-sport.de/wp-content/uploads/2024/03/MOC-logo.events.online-1.jpg
END:VEVENT
END:VCALENDAR