BEGIN:VCALENDAR
VERSION:2.0
PRODID:-//Branchenprofi Sport - ECPv6.0.0.1//NONSGML v1.0//EN
CALSCALE:GREGORIAN
METHOD:PUBLISH
X-ORIGINAL-URL:https://branchenprofi-sport.de
X-WR-CALDESC:Events for Branchenprofi Sport
REFRESH-INTERVAL;VALUE=DURATION:PT1H
X-Robots-Tag:noindex
X-PUBLISHED-TTL:PT1H
BEGIN:VTIMEZONE
TZID:Europe/Berlin
BEGIN:DAYLIGHT
TZOFFSETFROM:+0100
TZOFFSETTO:+0200
TZNAME:CEST
DTSTART:20250330T010000
END:DAYLIGHT
BEGIN:STANDARD
TZOFFSETFROM:+0200
TZOFFSETTO:+0100
TZNAME:CET
DTSTART:20251026T010000
END:STANDARD
END:VTIMEZONE
BEGIN:VEVENT
DTSTART;VALUE=DATE:20250809
DTEND;VALUE=DATE:20250811
DTSTAMP:20260425T215623
CREATED:20250721T082250Z
LAST-MODIFIED:20250721T082250Z
UID:6286-1754697600-1754870399@branchenprofi-sport.de
SUMMARY:Fierra di Baracci
DESCRIPTION:Sports\, cultural and musical events \nOlmeto\, Frankreich \nwww.foiresdecorse.com
URL:https://branchenprofi-sport.de/event/fierra-di-baracci/
END:VEVENT
END:VCALENDAR