BEGIN:VCALENDAR
VERSION:2.0
PRODID:-//Branchenprofi Sport - ECPv6.0.0.1//NONSGML v1.0//EN
CALSCALE:GREGORIAN
METHOD:PUBLISH
X-ORIGINAL-URL:https://branchenprofi-sport.de
X-WR-CALDESC:Events for Branchenprofi Sport
REFRESH-INTERVAL;VALUE=DURATION:PT1H
X-Robots-Tag:noindex
X-PUBLISHED-TTL:PT1H
BEGIN:VTIMEZONE
TZID:Europe/Berlin
BEGIN:DAYLIGHT
TZOFFSETFROM:+0100
TZOFFSETTO:+0200
TZNAME:CEST
DTSTART:20250330T010000
END:DAYLIGHT
BEGIN:STANDARD
TZOFFSETFROM:+0200
TZOFFSETTO:+0100
TZNAME:CET
DTSTART:20251026T010000
END:STANDARD
END:VTIMEZONE
BEGIN:VEVENT
DTSTART;VALUE=DATE:20251017
DTEND;VALUE=DATE:20251020
DTSTAMP:20260425T183845
CREATED:20251001T100606Z
LAST-MODIFIED:20251001T100606Z
UID:6343-1760659200-1760918399@branchenprofi-sport.de
SUMMARY:International Seasport Affairs
DESCRIPTION:17.-19.10.2025 \nFlensburg \nwww.insa-boatshow.de
URL:https://branchenprofi-sport.de/event/international-seasport-affairs/
END:VEVENT
END:VCALENDAR