BEGIN:VCALENDAR
VERSION:2.0
PRODID:-//Branchenprofi Sport - ECPv6.0.0.1//NONSGML v1.0//EN
CALSCALE:GREGORIAN
METHOD:PUBLISH
X-WR-CALNAME:Branchenprofi Sport
X-ORIGINAL-URL:https://branchenprofi-sport.de
X-WR-CALDESC:Events for Branchenprofi Sport
REFRESH-INTERVAL;VALUE=DURATION:PT1H
X-Robots-Tag:noindex
X-PUBLISHED-TTL:PT1H
BEGIN:VTIMEZONE
TZID:Europe/Berlin
BEGIN:DAYLIGHT
TZOFFSETFROM:+0100
TZOFFSETTO:+0200
TZNAME:CEST
DTSTART:20260329T010000
END:DAYLIGHT
BEGIN:STANDARD
TZOFFSETFROM:+0200
TZOFFSETTO:+0100
TZNAME:CET
DTSTART:20261025T010000
END:STANDARD
END:VTIMEZONE
BEGIN:VEVENT
DTSTART;VALUE=DATE:20260115
DTEND;VALUE=DATE:20260116
DTSTAMP:20260425T134434
CREATED:20250910T132516Z
LAST-MODIFIED:20250910T132516Z
UID:6316-1768435200-1768521599@branchenprofi-sport.de
SUMMARY:Ski Preview im MOC
DESCRIPTION:15.01.2026 in München im MOC \nwww.moc-ordercenter.de \n 
URL:https://branchenprofi-sport.de/event/ski-preview-im-moc/
ATTACH;FMTTYPE=image/jpeg:https://branchenprofi-sport.de/wp-content/uploads/2024/03/MOC-logo.events.online-1.jpg
END:VEVENT
END:VCALENDAR