BEGIN:VCALENDAR
VERSION:2.0
PRODID:-//Branchenprofi Sport - ECPv6.0.0.1//NONSGML v1.0//EN
CALSCALE:GREGORIAN
METHOD:PUBLISH
X-ORIGINAL-URL:https://branchenprofi-sport.de
X-WR-CALDESC:Events for Branchenprofi Sport
REFRESH-INTERVAL;VALUE=DURATION:PT1H
X-Robots-Tag:noindex
X-PUBLISHED-TTL:PT1H
BEGIN:VTIMEZONE
TZID:Europe/Berlin
BEGIN:DAYLIGHT
TZOFFSETFROM:+0100
TZOFFSETTO:+0200
TZNAME:CEST
DTSTART:20260329T010000
END:DAYLIGHT
BEGIN:STANDARD
TZOFFSETFROM:+0200
TZOFFSETTO:+0100
TZNAME:CET
DTSTART:20261025T010000
END:STANDARD
END:VTIMEZONE
BEGIN:VEVENT
DTSTART;VALUE=DATE:20260611
DTEND;VALUE=DATE:20260613
DTSTAMP:20260424T011828
CREATED:20260407T085506Z
LAST-MODIFIED:20260407T124130Z
UID:6245-1781136000-1781308799@branchenprofi-sport.de
SUMMARY:MOC Preview Day
DESCRIPTION:Preview Frühjahr/Sommer 2027 \n11.06. 2026 \nMünchen \nwww.moc-ordercenter.de \n 
URL:https://branchenprofi-sport.de/event/moc-preview-days/
ATTACH;FMTTYPE=image/jpeg:https://branchenprofi-sport.de/wp-content/uploads/2024/03/MOC-logo.events.online-1.jpg
END:VEVENT
BEGIN:VEVENT
DTSTART;VALUE=DATE:20260623
DTEND;VALUE=DATE:20260625
DTSTAMP:20260424T011828
CREATED:20250721T082405Z
LAST-MODIFIED:20260407T124625Z
UID:6288-1782172800-1782345599@branchenprofi-sport.de
SUMMARY:Shoe Preview Days
DESCRIPTION:23.06. – 24.06.2026 \nBrandboxx Salzburg GmbH \nÖsterreich\nwww.brandboxx.at
URL:https://branchenprofi-sport.de/event/shoes-bags/
ATTACH;FMTTYPE=image/png:https://branchenprofi-sport.de/wp-content/uploads/2017/07/logo-brandboxx.png
END:VEVENT
BEGIN:VEVENT
DTSTART;VALUE=DATE:20260623
DTEND;VALUE=DATE:20260626
DTSTAMP:20260424T011828
CREATED:20260407T124845Z
LAST-MODIFIED:20260407T124921Z
UID:6512-1782172800-1782431999@branchenprofi-sport.de
SUMMARY:Outdoor Order Days
DESCRIPTION:23.06. – 25.06.2026 \nBrandboxx Salzburg GmbH \nÖsterreich \nwww.brandboxx.at \n 
URL:https://branchenprofi-sport.de/event/outdoor-order-days/
ATTACH;FMTTYPE=image/png:https://branchenprofi-sport.de/wp-content/uploads/2017/07/logo-brandboxx.png
END:VEVENT
BEGIN:VEVENT
DTSTART;VALUE=DATE:20260624
DTEND;VALUE=DATE:20260628
DTSTAMP:20260424T011828
CREATED:20260407T125011Z
LAST-MODIFIED:20260407T130405Z
UID:6224-1782259200-1782604799@branchenprofi-sport.de
SUMMARY:Eurobike
DESCRIPTION:24.06. – 27.06. 2026 \nFrankfurt am Main \nwww.eurobike.com
URL:https://branchenprofi-sport.de/event/eurobike-2/
END:VEVENT
END:VCALENDAR