BEGIN:VCALENDAR
VERSION:2.0
PRODID:-//Branchenprofi Sport - ECPv6.0.0.1//NONSGML v1.0//EN
CALSCALE:GREGORIAN
METHOD:PUBLISH
X-WR-CALNAME:Branchenprofi Sport
X-ORIGINAL-URL:https://branchenprofi-sport.de
X-WR-CALDESC:Events for Branchenprofi Sport
REFRESH-INTERVAL;VALUE=DURATION:PT1H
X-Robots-Tag:noindex
X-PUBLISHED-TTL:PT1H
BEGIN:VTIMEZONE
TZID:Europe/Berlin
BEGIN:DAYLIGHT
TZOFFSETFROM:+0100
TZOFFSETTO:+0200
TZNAME:CEST
DTSTART:20260329T010000
END:DAYLIGHT
BEGIN:STANDARD
TZOFFSETFROM:+0200
TZOFFSETTO:+0100
TZNAME:CET
DTSTART:20261025T010000
END:STANDARD
END:VTIMEZONE
BEGIN:VEVENT
DTSTART;VALUE=DATE:20261117
DTEND;VALUE=DATE:20261118
DTSTAMP:20260424T070928
CREATED:20260407T082242Z
LAST-MODIFIED:20260407T124329Z
UID:6313-1794873600-1794959999@branchenprofi-sport.de
SUMMARY:MOC Preview Day
DESCRIPTION:Preview Herbst/Winter 2027 \n17.11.2026 \nMünchen \nwww.moc-ordercenter.de \n 
URL:https://branchenprofi-sport.de/event/preview-day-im-moc/
ATTACH;FMTTYPE=image/jpeg:https://branchenprofi-sport.de/wp-content/uploads/2024/03/MOC-logo.events.online-1.jpg
END:VEVENT
END:VCALENDAR